BEGIN:VCALENDAR
VERSION:2.0
PRODID:-//Epic Vineyard Church - ECPv6.15.20//NONSGML v1.0//EN
CALSCALE:GREGORIAN
METHOD:PUBLISH
X-ORIGINAL-URL:https://epicvineyard.church
X-WR-CALDESC:Events for Epic Vineyard Church
REFRESH-INTERVAL;VALUE=DURATION:PT1H
X-Robots-Tag:noindex
X-PUBLISHED-TTL:PT1H
BEGIN:VTIMEZONE
TZID:America/Edmonton
BEGIN:DAYLIGHT
TZOFFSETFROM:-0700
TZOFFSETTO:-0600
TZNAME:MDT
DTSTART:20240310T090000
END:DAYLIGHT
BEGIN:STANDARD
TZOFFSETFROM:-0600
TZOFFSETTO:-0700
TZNAME:MST
DTSTART:20241103T080000
END:STANDARD
BEGIN:DAYLIGHT
TZOFFSETFROM:-0700
TZOFFSETTO:-0600
TZNAME:MDT
DTSTART:20250309T090000
END:DAYLIGHT
BEGIN:STANDARD
TZOFFSETFROM:-0600
TZOFFSETTO:-0700
TZNAME:MST
DTSTART:20251102T080000
END:STANDARD
BEGIN:DAYLIGHT
TZOFFSETFROM:-0700
TZOFFSETTO:-0600
TZNAME:MDT
DTSTART:20260308T090000
END:DAYLIGHT
BEGIN:STANDARD
TZOFFSETFROM:-0600
TZOFFSETTO:-0700
TZNAME:MST
DTSTART:20261101T080000
END:STANDARD
END:VTIMEZONE
BEGIN:VEVENT
DTSTART;TZID=America/Edmonton:20251005T160000
DTEND;TZID=America/Edmonton:20251005T173000
DTSTAMP:20260418T140851
CREATED:20250902T173824Z
LAST-MODIFIED:20251005T174639Z
UID:51946-1759680000-1759685400@epicvineyard.church
SUMMARY:Sunday Service at the HUB / October 05 4:00pm
DESCRIPTION:We gather to worship together\, share in community\, and hear God’s Word.\nThe overflow location has been cancelled today\, Sunday\, October 5. Even if you haven’t registered in advance\, please join us at the Hub (2018 Centre Street N) at 4:00pm. See you there!
URL:https://epicvineyard.church/event/sunday-service-at-the-hub-october-05-400pm/
ATTACH;FMTTYPE=image/jpeg:https://epicvineyard.church/wp-content/uploads/2025/08/2025-July-_-Hub-Sunday-Gathering-928-scaled.jpg
END:VEVENT
BEGIN:VEVENT
DTSTART;TZID=America/Edmonton:20251019T160000
DTEND;TZID=America/Edmonton:20251019T173000
DTSTAMP:20260418T140851
CREATED:20250902T174556Z
LAST-MODIFIED:20251017T225859Z
UID:51951-1760889600-1760895000@epicvineyard.church
SUMMARY:Sunday Service at the HUB / October 19 4:00pm
DESCRIPTION:We gather to worship together\, share in community\, and hear God’s Word.\nThe overflow location has been cancelled today\, Sunday\, October 19. Even if you haven’t registered in advance\, please join us at the Hub (2018 Centre Street N) at 4:00pm. See you there!
URL:https://epicvineyard.church/event/sunday-service-at-the-hub-october-19-400pm/
ATTACH;FMTTYPE=image/jpeg:https://epicvineyard.church/wp-content/uploads/2025/08/2025-July-_-Hub-Sunday-Gathering-928-scaled.jpg
END:VEVENT
END:VCALENDAR