BEGIN:VCALENDAR
VERSION:2.0
PRODID:-//Epic Vineyard Church - ECPv6.15.20//NONSGML v1.0//EN
CALSCALE:GREGORIAN
METHOD:PUBLISH
X-WR-CALNAME:Epic Vineyard Church
X-ORIGINAL-URL:https://epicvineyard.church
X-WR-CALDESC:Events for Epic Vineyard Church
REFRESH-INTERVAL;VALUE=DURATION:PT1H
X-Robots-Tag:noindex
X-PUBLISHED-TTL:PT1H
BEGIN:VTIMEZONE
TZID:America/Edmonton
BEGIN:DAYLIGHT
TZOFFSETFROM:-0700
TZOFFSETTO:-0600
TZNAME:MDT
DTSTART:20240310T090000
END:DAYLIGHT
BEGIN:STANDARD
TZOFFSETFROM:-0600
TZOFFSETTO:-0700
TZNAME:MST
DTSTART:20241103T080000
END:STANDARD
BEGIN:DAYLIGHT
TZOFFSETFROM:-0700
TZOFFSETTO:-0600
TZNAME:MDT
DTSTART:20250309T090000
END:DAYLIGHT
BEGIN:STANDARD
TZOFFSETFROM:-0600
TZOFFSETTO:-0700
TZNAME:MST
DTSTART:20251102T080000
END:STANDARD
BEGIN:DAYLIGHT
TZOFFSETFROM:-0700
TZOFFSETTO:-0600
TZNAME:MDT
DTSTART:20260308T090000
END:DAYLIGHT
BEGIN:STANDARD
TZOFFSETFROM:-0600
TZOFFSETTO:-0700
TZNAME:MST
DTSTART:20261101T080000
END:STANDARD
BEGIN:DAYLIGHT
TZOFFSETFROM:-0700
TZOFFSETTO:-0600
TZNAME:MDT
DTSTART:20270314T090000
END:DAYLIGHT
BEGIN:STANDARD
TZOFFSETFROM:-0600
TZOFFSETTO:-0700
TZNAME:MST
DTSTART:20271107T080000
END:STANDARD
END:VTIMEZONE
BEGIN:VEVENT
DTSTART;TZID=America/Edmonton:20260215T190000
DTEND;TZID=America/Edmonton:20260215T203000
DTSTAMP:20260420T174108
CREATED:20260107T194854Z
LAST-MODIFIED:20260107T194854Z
UID:53278-1771182000-1771187400@epicvineyard.church
SUMMARY:Sunday Service #2 at the HUB / Feb 15 / 7pm
DESCRIPTION:We gather to worship together\, share in community\, and hear God’s Word.\nWe are looking forward to this special Epiphany service with worship\, prayer\, communion and receiving epiphany words. Join us in reflecting on the past year and the year ahead\, inviting the Holy Spirit to speak and guide us.  \nTo participate at the Hub this Sunday\, please register below. This will help us stay within the building’s small seating capacity. \n⚠️ Please note:  If you see that the RSVPs below are closed\, it means the Hub seating is full. In that case\, please consider attending the other service time\, at 4:00pm\, instead.
URL:https://epicvineyard.church/event/sunday-service-2-at-the-hub-feb-15-7pm/
ATTACH;FMTTYPE=image/jpeg:https://epicvineyard.church/wp-content/uploads/2025/08/2025-July-_-Hub-Sunday-Gathering-928-scaled.jpg
END:VEVENT
BEGIN:VEVENT
DTSTART;TZID=America/Edmonton:20260215T160000
DTEND;TZID=America/Edmonton:20260215T173000
DTSTAMP:20260420T174108
CREATED:20260107T194655Z
LAST-MODIFIED:20260107T194655Z
UID:53275-1771171200-1771176600@epicvineyard.church
SUMMARY:Sunday Service #1 at the HUB / Feb 15 / 4pm
DESCRIPTION:We gather to worship together\, share in community\, and hear God’s Word.\nWe are looking forward to this special Epiphany service with worship\, prayer\, communion and receiving epiphany words. Join us in reflecting on the past year and the year ahead\, inviting the Holy Spirit to speak and guide us.  \nTo participate at the Hub this Sunday\, please register below. This will help us stay within the building’s small seating capacity. \n⚠️ Please note:  If you see that the RSVPs below are closed\, it means the Hub seating is full. In that case\, please consider attending the other service time\, at 7:00pm\, instead.
URL:https://epicvineyard.church/event/sunday-service-1-at-the-hub-feb-15-4pm/
ATTACH;FMTTYPE=image/jpeg:https://epicvineyard.church/wp-content/uploads/2025/08/2025-July-_-Hub-Sunday-Gathering-928-scaled.jpg
END:VEVENT
BEGIN:VEVENT
DTSTART;TZID=America/Edmonton:20260201T190000
DTEND;TZID=America/Edmonton:20260201T203000
DTSTAMP:20260420T174108
CREATED:20260107T194351Z
LAST-MODIFIED:20260128T212028Z
UID:53272-1769972400-1769977800@epicvineyard.church
SUMMARY:Sunday Service #2 at the HUB / Feb 01 / 7pm
DESCRIPTION:We gather to worship together\, share in community\, and hear God’s Word.\nTo participate at the Hub this Sunday\, please register below. This will help us stay within the building’s small seating capacity. \n⚠️ Please note:  If you see that the RSVPs below are closed\, it means the Hub seating is full. In that case\, please consider attending the other service time\, at 4:00pm\, instead.
URL:https://epicvineyard.church/event/sunday-service-1-at-the-hub-feb-01-7pm/
ATTACH;FMTTYPE=image/jpeg:https://epicvineyard.church/wp-content/uploads/2025/08/2025-July-_-Hub-Sunday-Gathering-928-scaled.jpg
END:VEVENT
BEGIN:VEVENT
DTSTART;TZID=America/Edmonton:20260201T160000
DTEND;TZID=America/Edmonton:20260201T173000
DTSTAMP:20260420T174108
CREATED:20260107T194159Z
LAST-MODIFIED:20260130T223128Z
UID:53269-1769961600-1769967000@epicvineyard.church
SUMMARY:Sunday Service #1 at the HUB / Feb 01 / 4pm
DESCRIPTION:We gather to worship together\, share in community\, and hear God’s Word.\nTo participate at the Hub this Sunday\, please register below. This will help us stay within the building’s small seating capacity. \n⚠️ Please note:  If you see that the RSVPs below are closed\, it means the Hub seating is full. In that case\, please consider attending the other service time\, at 7:00pm\, instead.
URL:https://epicvineyard.church/event/sunday-service-1-at-the-hub-feb-01-4pm/
ATTACH;FMTTYPE=image/jpeg:https://epicvineyard.church/wp-content/uploads/2025/08/2025-July-_-Hub-Sunday-Gathering-928-scaled.jpg
END:VEVENT
BEGIN:VEVENT
DTSTART;TZID=America/Edmonton:20260118T190000
DTEND;TZID=America/Edmonton:20260118T203000
DTSTAMP:20260420T174108
CREATED:20260107T193728Z
LAST-MODIFIED:20260114T201551Z
UID:53266-1768762800-1768768200@epicvineyard.church
SUMMARY:Sunday Evening Service at the HUB / Jan 18 / 7pm
DESCRIPTION:We gather to worship together\, share in community\, and hear God’s Word.\nTo participate at the Hub this Sunday\, please register below. This will help us stay within the building’s small seating capacity. \n⚠️ Please note:  If you see that the RSVPs below are closed\, it means the Hub seating is full. In that case\, please consider attending the other service time\, at 4:00pm\, instead.
URL:https://epicvineyard.church/event/sunday-service-2-at-the-hub-jan-18-7pm/
ATTACH;FMTTYPE=image/jpeg:https://epicvineyard.church/wp-content/uploads/2025/08/2025-July-_-Hub-Sunday-Gathering-928-scaled.jpg
END:VEVENT
BEGIN:VEVENT
DTSTART;TZID=America/Edmonton:20260118T160000
DTEND;TZID=America/Edmonton:20260118T173000
DTSTAMP:20260420T174108
CREATED:20260107T193059Z
LAST-MODIFIED:20260116T191958Z
UID:53263-1768752000-1768757400@epicvineyard.church
SUMMARY:Sunday Afternoon Service at the HUB / Jan 18 / 4pm
DESCRIPTION:We gather to worship together\, share in community\, and hear God’s Word.\nTo participate at the Hub this Sunday\, please register below. This will help us stay within the building’s small seating capacity. \n⚠️ Please note:  If you see that the RSVPs below are closed\, it means the Hub seating is full. In that case\, please consider attending the other service time\, at 7:00pm\, instead.
URL:https://epicvineyard.church/event/sunday-service-1-at-the-hub-jan-18-4pm/
ATTACH;FMTTYPE=image/jpeg:https://epicvineyard.church/wp-content/uploads/2025/08/2025-July-_-Hub-Sunday-Gathering-928-scaled.jpg
END:VEVENT
BEGIN:VEVENT
DTSTART;TZID=America/Edmonton:20260104T190000
DTEND;TZID=America/Edmonton:20260104T203000
DTSTAMP:20260420T174108
CREATED:20251216T185116Z
LAST-MODIFIED:20260102T175600Z
UID:52967-1767553200-1767558600@epicvineyard.church
SUMMARY:Epiphany Service #2 at the HUB / Jan 04 / 7pm
DESCRIPTION:We gather to worship together\, share in community\, and hear God’s Word.\nWe are looking forward to this special Epiphany service with worship\, prayer\, communion\, and receiving epiphany words. Join us in reflecting on the past year and the year ahead\, inviting the Holy Spirit to speak and guide us.  \nTo participate at the Hub this Sunday\, please register below. This will help us stay within the building’s small seating capacity. \n⚠️ Please note:  If you see that the RSVPs below are closed\, it means the Hub seating is full. In that case\, please consider attending the other service time\, at 4:00pm\, instead. 
URL:https://epicvineyard.church/event/epiphany-service-2-at-the-hub-jan-04-7pm/
ATTACH;FMTTYPE=image/jpeg:https://epicvineyard.church/wp-content/uploads/2025/08/2025-July-_-Hub-Sunday-Gathering-928-scaled.jpg
END:VEVENT
BEGIN:VEVENT
DTSTART;TZID=America/Edmonton:20260104T160000
DTEND;TZID=America/Edmonton:20260104T173000
DTSTAMP:20260420T174108
CREATED:20251216T184914Z
LAST-MODIFIED:20260102T221520Z
UID:52963-1767542400-1767547800@epicvineyard.church
SUMMARY:Epiphany Service #1 at the HUB / Jan 04 / 4pm
DESCRIPTION:We gather to worship together\, share in community\, and hear God’s Word.\nWe are looking forward to this special Epiphany service with worship\, prayer\, communion and receiving epiphany words. Join us in reflecting on the past year and the year ahead\, inviting the Holy Spirit to speak and guide us.  \nTo participate at the Hub this Sunday\, please register below. This will help us stay within the building’s small seating capacity. \n⚠️ Please note:  If you see that the RSVPs below are closed\, it means the Hub seating is full. In that case\, please consider attending the other service time\, at 7:00pm\, instead.
URL:https://epicvineyard.church/event/epiphany-service-1-at-the-hub-jan-04-4pm/
ATTACH;FMTTYPE=image/jpeg:https://epicvineyard.church/wp-content/uploads/2025/08/2025-July-_-Hub-Sunday-Gathering-928-scaled.jpg
END:VEVENT
BEGIN:VEVENT
DTSTART;TZID=America/Edmonton:20251224T160000
DTEND;TZID=America/Edmonton:20251224T170000
DTSTAMP:20260420T174108
CREATED:20251008T202908Z
LAST-MODIFIED:20251223T174648Z
UID:52244-1766592000-1766595600@epicvineyard.church
SUMMARY:Christmas Eve Service at the HUB / December 24 4:00pm
DESCRIPTION:We gather to worship together\, share in community\, and hear God’s Word.\nWe are looking forward to this special Christmas Eve service with Christmas carols\, warm cider\, candles\, and scripture readings. Kids get a goodie bag! \nTo participate at the Hub this Christmas Eve\, please register below. This will help us stay within the building’s small seating capacity. \n⚠️ Please note:  If you see that the RSVPs below are closed\, it means the Hub seating is full. In that case\, please consider attending the other service time\, at 2:00pm\, instead. 
URL:https://epicvineyard.church/event/sunday-service-at-the-hub-december-24-400pm/
ATTACH;FMTTYPE=image/jpeg:https://epicvineyard.church/wp-content/uploads/2025/08/2025-July-_-Hub-Sunday-Gathering-928-scaled.jpg
END:VEVENT
BEGIN:VEVENT
DTSTART;TZID=America/Edmonton:20251224T140000
DTEND;TZID=America/Edmonton:20251224T150000
DTSTAMP:20260420T174108
CREATED:20251008T202618Z
LAST-MODIFIED:20251223T174639Z
UID:52241-1766584800-1766588400@epicvineyard.church
SUMMARY:Christmas Eve Service at the HUB / December 24 2:00pm
DESCRIPTION:We gather to worship together\, share in community\, and hear God’s Word.\nWe are looking forward to this special Christmas Eve service with Christmas carols\, warm cider\, candles\, and scripture readings. Kids get a goodie bag! \nTo participate at the Hub this Christmas Eve\, please register below. This will help us stay within the building’s small seating capacity. \n⚠️ Please note:  If you see that the RSVPs below are closed\, it means the Hub seating is full. In that case\, please consider attending the other service time\, at 4:00pm\, instead. 
URL:https://epicvineyard.church/event/sunday-service-at-the-hub-december-24-300pm/
ATTACH;FMTTYPE=image/jpeg:https://epicvineyard.church/wp-content/uploads/2025/08/2025-July-_-Hub-Sunday-Gathering-928-scaled.jpg
END:VEVENT
BEGIN:VEVENT
DTSTART;TZID=America/Edmonton:20251221T160000
DTEND;TZID=America/Edmonton:20251221T173000
DTSTAMP:20260420T174108
CREATED:20251203T014559Z
LAST-MODIFIED:20251220T000015Z
UID:52660-1766332800-1766338200@epicvineyard.church
SUMMARY:Sunday Service at the HUB / December 21 / 4:00pm
DESCRIPTION:We gather to worship together\, share in community\, and hear God’s Word.\nThe overflow location has been cancelled today\, Sunday\, December 21. Even if you haven’t registered in advance\, please join us at the Hub (2018 Centre Street N) at 4:00pm. See you there!
URL:https://epicvineyard.church/event/sunday-service-at-the-hub-december-21-400pm/
ATTACH;FMTTYPE=image/jpeg:https://epicvineyard.church/wp-content/uploads/2025/08/2025-July-_-Hub-Sunday-Gathering-928-scaled.jpg
END:VEVENT
BEGIN:VEVENT
DTSTART;TZID=America/Edmonton:20251214T160000
DTEND;TZID=America/Edmonton:20251214T173000
DTSTAMP:20260420T174108
CREATED:20251008T191921Z
LAST-MODIFIED:20251213T182650Z
UID:52235-1765728000-1765733400@epicvineyard.church
SUMMARY:Sunday Service at the HUB / December 14 4:00pm
DESCRIPTION:We gather to worship together\, share in community\, and hear God’s Word.\nThe overflow location has been cancelled today\, Sunday\, December 14. Even if you haven’t registered in advance\, please join us at the Hub (2018 Centre Street N) at 4:00pm. See you there!
URL:https://epicvineyard.church/event/sunday-service-at-the-hub-december-14-400pm/
ATTACH;FMTTYPE=image/jpeg:https://epicvineyard.church/wp-content/uploads/2025/08/2025-July-_-Hub-Sunday-Gathering-928-scaled.jpg
END:VEVENT
BEGIN:VEVENT
DTSTART;TZID=America/Edmonton:20251207T160000
DTEND;TZID=America/Edmonton:20251207T173000
DTSTAMP:20260420T174108
CREATED:20251203T014215Z
LAST-MODIFIED:20251204T162358Z
UID:52637-1765123200-1765128600@epicvineyard.church
SUMMARY:Sunday Service at the HUB / December 07 / 4:00pm
DESCRIPTION:We gather to worship together\, share in community\, and hear God’s Word.\nWe love our little\, homey Hub – but the space is tight! To gather at this location\, please register below. This will help us stay within the building’s small seating capacity. \n⚠️ Please note:  If you see that the RSVPs below are closed\, it means the Hub seating is full.  Overflow is located in  host homes.   To attend overflow\, register through this link. \nOverflow host homes have live worship\, communion\, coffee\, and ministry time. The teaching portion of the gathering will be video streamed\, and activities will be provided for kids (similar to pizza boxes). Being together with a smaller group of folks at overflow is a special\, meaningful time!
URL:https://epicvineyard.church/event/sunday-service-at-the-hub-december-07-400pm/
ATTACH;FMTTYPE=image/jpeg:https://epicvineyard.church/wp-content/uploads/2025/08/2025-July-_-Hub-Sunday-Gathering-928-scaled.jpg
END:VEVENT
BEGIN:VEVENT
DTSTART;TZID=America/Edmonton:20251130T160000
DTEND;TZID=America/Edmonton:20251130T173000
DTSTAMP:20260420T174108
CREATED:20251008T160253Z
LAST-MODIFIED:20251129T201044Z
UID:52232-1764518400-1764523800@epicvineyard.church
SUMMARY:Sunday Service at the HUB / November 30 4:00pm
DESCRIPTION:We gather to worship together\, share in community\, and hear God’s Word.\nWe love our little\, homey Hub – but the space is tight! To gather at this location\, please register below. This will help us stay within the building’s small seating capacity. \n⚠️ Please note:  If you see that the RSVPs below are closed\, it means the Hub seating is full.  Overflow is located in  host homes.   To attend overflow\, register through this link. \nOverflow host homes have live worship\, communion\, coffee\, and ministry time. The teaching portion of the gathering will be video streamed\, and activities will be provided for kids (similar to pizza boxes). Being together with a smaller group of folks at overflow is a special\, meaningful time! This week’s overflow is located in the NW community of Royal Oak. \n 
URL:https://epicvineyard.church/event/sunday-service-at-the-hub-november-30-400pm/
ATTACH;FMTTYPE=image/jpeg:https://epicvineyard.church/wp-content/uploads/2025/08/2025-July-_-Hub-Sunday-Gathering-928-scaled.jpg
END:VEVENT
BEGIN:VEVENT
DTSTART;TZID=America/Edmonton:20251116T160000
DTEND;TZID=America/Edmonton:20251116T173000
DTSTAMP:20260420T174108
CREATED:20251008T155659Z
LAST-MODIFIED:20251115T214126Z
UID:52229-1763308800-1763314200@epicvineyard.church
SUMMARY:Sunday Service at the HUB / November 16 4:00pm
DESCRIPTION:We gather to worship together\, share in community\, and hear God’s Word.\nWe love our little\, homey Hub – but the space is tight! To gather at this location\, please register below. This will help us stay within the building’s small seating capacity. \n⚠️ Please note:  If you see that the RSVPs below are closed\, it means the Hub seating is full.
URL:https://epicvineyard.church/event/sunday-service-at-the-hub-november-16-400pm/
ATTACH;FMTTYPE=image/jpeg:https://epicvineyard.church/wp-content/uploads/2025/08/2025-July-_-Hub-Sunday-Gathering-928-scaled.jpg
END:VEVENT
BEGIN:VEVENT
DTSTART;TZID=America/Edmonton:20251102T160000
DTEND;TZID=America/Edmonton:20251102T173000
DTSTAMP:20260420T174108
CREATED:20251007T235504Z
LAST-MODIFIED:20251102T164724Z
UID:52226-1762099200-1762104600@epicvineyard.church
SUMMARY:Sunday Service at the HUB / November 02 4:00pm
DESCRIPTION:We gather to worship together\, share in community\, and hear God’s Word.\nThe overflow location has been cancelled today\, Sunday\, November 2. Even if you haven’t registered in advance\, please join us at the Hub (2018 Centre Street N) at 4:00pm. See you there!
URL:https://epicvineyard.church/event/sunday-service-at-the-hub-november-02-400pm/
ATTACH;FMTTYPE=image/jpeg:https://epicvineyard.church/wp-content/uploads/2025/08/2025-July-_-Hub-Sunday-Gathering-928-scaled.jpg
END:VEVENT
BEGIN:VEVENT
DTSTART;TZID=America/Edmonton:20251019T160000
DTEND;TZID=America/Edmonton:20251019T173000
DTSTAMP:20260420T174108
CREATED:20250902T174556Z
LAST-MODIFIED:20251017T225859Z
UID:51951-1760889600-1760895000@epicvineyard.church
SUMMARY:Sunday Service at the HUB / October 19 4:00pm
DESCRIPTION:We gather to worship together\, share in community\, and hear God’s Word.\nThe overflow location has been cancelled today\, Sunday\, October 19. Even if you haven’t registered in advance\, please join us at the Hub (2018 Centre Street N) at 4:00pm. See you there!
URL:https://epicvineyard.church/event/sunday-service-at-the-hub-october-19-400pm/
ATTACH;FMTTYPE=image/jpeg:https://epicvineyard.church/wp-content/uploads/2025/08/2025-July-_-Hub-Sunday-Gathering-928-scaled.jpg
END:VEVENT
BEGIN:VEVENT
DTSTART;TZID=America/Edmonton:20251005T160000
DTEND;TZID=America/Edmonton:20251005T173000
DTSTAMP:20260420T174108
CREATED:20250902T173824Z
LAST-MODIFIED:20251005T174639Z
UID:51946-1759680000-1759685400@epicvineyard.church
SUMMARY:Sunday Service at the HUB / October 05 4:00pm
DESCRIPTION:We gather to worship together\, share in community\, and hear God’s Word.\nThe overflow location has been cancelled today\, Sunday\, October 5. Even if you haven’t registered in advance\, please join us at the Hub (2018 Centre Street N) at 4:00pm. See you there!
URL:https://epicvineyard.church/event/sunday-service-at-the-hub-october-05-400pm/
ATTACH;FMTTYPE=image/jpeg:https://epicvineyard.church/wp-content/uploads/2025/08/2025-July-_-Hub-Sunday-Gathering-928-scaled.jpg
END:VEVENT
BEGIN:VEVENT
DTSTART;TZID=America/Edmonton:20250921T160000
DTEND;TZID=America/Edmonton:20250921T173000
DTSTAMP:20260420T174108
CREATED:20250827T203812Z
LAST-MODIFIED:20250921T192048Z
UID:51851-1758470400-1758475800@epicvineyard.church
SUMMARY:Sunday Service at the HUB / September 21 4:00pm
DESCRIPTION:Good afternoon\, Epic Folk! The RSVPs are in… it looks like we’ll all fit at the Hub this Sunday!\nThe overflow location has been cancelled today\, Sunday\, September 21. Even if you haven’t registered in advance\, please join us at the Hub (2018 Centre Street N) at 4:00pm. See you there!
URL:https://epicvineyard.church/event/sunday-service-at-the-hub-september-21-400pm/
ATTACH;FMTTYPE=image/jpeg:https://epicvineyard.church/wp-content/uploads/2025/08/2025-July-_-Hub-Sunday-Gathering-928-scaled.jpg
END:VEVENT
BEGIN:VEVENT
DTSTART;TZID=America/Edmonton:20250907T160000
DTEND;TZID=America/Edmonton:20250907T173000
DTSTAMP:20260420T174108
CREATED:20250827T202012Z
LAST-MODIFIED:20250904T153224Z
UID:51844-1757260800-1757266200@epicvineyard.church
SUMMARY:Sunday Service at the HUB / September 07 4:00pm
DESCRIPTION:We gather to worship together\, share in community\, and hear God’s Word.\nWe love our little\, homey Hub – but the space is tight! To gather at this location\, please register below. This will help us stay within the building’s small seating capacity. \n⚠️ Please note:  If you see that the RSVPs below are closed\, it means the Hub seating is full.  Overflow is located in  host homes.   To attend overflow\, register through this link.  \n  \n \n 
URL:https://epicvineyard.church/event/sunday-service-at-the-hub-september-07-400pm/
ATTACH;FMTTYPE=image/jpeg:https://epicvineyard.church/wp-content/uploads/2025/08/2025-July-_-Hub-Sunday-Gathering-928-scaled.jpg
ORGANIZER;CN="Epic Vineyard Church":MAILTO:connect@epicvienyard.church
END:VEVENT
END:VCALENDAR