BEGIN:VCALENDAR
VERSION:2.0
PRODID:-//Epic Vineyard Church - ECPv6.15.20//NONSGML v1.0//EN
CALSCALE:GREGORIAN
METHOD:PUBLISH
X-ORIGINAL-URL:https://epicvineyard.church
X-WR-CALDESC:Events for Epic Vineyard Church
REFRESH-INTERVAL;VALUE=DURATION:PT1H
X-Robots-Tag:noindex
X-PUBLISHED-TTL:PT1H
BEGIN:VTIMEZONE
TZID:America/Edmonton
BEGIN:DAYLIGHT
TZOFFSETFROM:-0700
TZOFFSETTO:-0600
TZNAME:MDT
DTSTART:20250309T090000
END:DAYLIGHT
BEGIN:STANDARD
TZOFFSETFROM:-0600
TZOFFSETTO:-0700
TZNAME:MST
DTSTART:20251102T080000
END:STANDARD
BEGIN:DAYLIGHT
TZOFFSETFROM:-0700
TZOFFSETTO:-0600
TZNAME:MDT
DTSTART:20260308T090000
END:DAYLIGHT
BEGIN:STANDARD
TZOFFSETFROM:-0600
TZOFFSETTO:-0700
TZNAME:MST
DTSTART:20261101T080000
END:STANDARD
BEGIN:DAYLIGHT
TZOFFSETFROM:-0700
TZOFFSETTO:-0600
TZNAME:MDT
DTSTART:20270314T090000
END:DAYLIGHT
BEGIN:STANDARD
TZOFFSETFROM:-0600
TZOFFSETTO:-0700
TZNAME:MST
DTSTART:20271107T080000
END:STANDARD
END:VTIMEZONE
BEGIN:VEVENT
DTSTART;TZID=America/Edmonton:20260104T160000
DTEND;TZID=America/Edmonton:20260104T173000
DTSTAMP:20260420T150310
CREATED:20251216T184914Z
LAST-MODIFIED:20260102T221520Z
UID:52963-1767542400-1767547800@epicvineyard.church
SUMMARY:Epiphany Service #1 at the HUB / Jan 04 / 4pm
DESCRIPTION:We gather to worship together\, share in community\, and hear God’s Word.\nWe are looking forward to this special Epiphany service with worship\, prayer\, communion and receiving epiphany words. Join us in reflecting on the past year and the year ahead\, inviting the Holy Spirit to speak and guide us.  \nTo participate at the Hub this Sunday\, please register below. This will help us stay within the building’s small seating capacity. \n⚠️ Please note:  If you see that the RSVPs below are closed\, it means the Hub seating is full. In that case\, please consider attending the other service time\, at 7:00pm\, instead.
URL:https://epicvineyard.church/event/epiphany-service-1-at-the-hub-jan-04-4pm/
ATTACH;FMTTYPE=image/jpeg:https://epicvineyard.church/wp-content/uploads/2025/08/2025-July-_-Hub-Sunday-Gathering-928-scaled.jpg
END:VEVENT
BEGIN:VEVENT
DTSTART;TZID=America/Edmonton:20260104T190000
DTEND;TZID=America/Edmonton:20260104T203000
DTSTAMP:20260420T150310
CREATED:20251216T185116Z
LAST-MODIFIED:20260102T175600Z
UID:52967-1767553200-1767558600@epicvineyard.church
SUMMARY:Epiphany Service #2 at the HUB / Jan 04 / 7pm
DESCRIPTION:We gather to worship together\, share in community\, and hear God’s Word.\nWe are looking forward to this special Epiphany service with worship\, prayer\, communion\, and receiving epiphany words. Join us in reflecting on the past year and the year ahead\, inviting the Holy Spirit to speak and guide us.  \nTo participate at the Hub this Sunday\, please register below. This will help us stay within the building’s small seating capacity. \n⚠️ Please note:  If you see that the RSVPs below are closed\, it means the Hub seating is full. In that case\, please consider attending the other service time\, at 4:00pm\, instead. 
URL:https://epicvineyard.church/event/epiphany-service-2-at-the-hub-jan-04-7pm/
ATTACH;FMTTYPE=image/jpeg:https://epicvineyard.church/wp-content/uploads/2025/08/2025-July-_-Hub-Sunday-Gathering-928-scaled.jpg
END:VEVENT
END:VCALENDAR