BEGIN:VCALENDAR
VERSION:2.0
PRODID:-//Epic Vineyard Church - ECPv6.15.20//NONSGML v1.0//EN
CALSCALE:GREGORIAN
METHOD:PUBLISH
X-WR-CALNAME:Epic Vineyard Church
X-ORIGINAL-URL:https://epicvineyard.church
X-WR-CALDESC:Events for Epic Vineyard Church
REFRESH-INTERVAL;VALUE=DURATION:PT1H
X-Robots-Tag:noindex
X-PUBLISHED-TTL:PT1H
BEGIN:VTIMEZONE
TZID:America/Edmonton
BEGIN:DAYLIGHT
TZOFFSETFROM:-0700
TZOFFSETTO:-0600
TZNAME:MDT
DTSTART:20240310T090000
END:DAYLIGHT
BEGIN:STANDARD
TZOFFSETFROM:-0600
TZOFFSETTO:-0700
TZNAME:MST
DTSTART:20241103T080000
END:STANDARD
BEGIN:DAYLIGHT
TZOFFSETFROM:-0700
TZOFFSETTO:-0600
TZNAME:MDT
DTSTART:20250309T090000
END:DAYLIGHT
BEGIN:STANDARD
TZOFFSETFROM:-0600
TZOFFSETTO:-0700
TZNAME:MST
DTSTART:20251102T080000
END:STANDARD
BEGIN:DAYLIGHT
TZOFFSETFROM:-0700
TZOFFSETTO:-0600
TZNAME:MDT
DTSTART:20260308T090000
END:DAYLIGHT
BEGIN:STANDARD
TZOFFSETFROM:-0600
TZOFFSETTO:-0700
TZNAME:MST
DTSTART:20261101T080000
END:STANDARD
END:VTIMEZONE
BEGIN:VEVENT
DTSTART;TZID=America/Edmonton:20251116T160000
DTEND;TZID=America/Edmonton:20251116T173000
DTSTAMP:20260420T172700
CREATED:20251008T155659Z
LAST-MODIFIED:20251115T214126Z
UID:52229-1763308800-1763314200@epicvineyard.church
SUMMARY:Sunday Service at the HUB / November 16 4:00pm
DESCRIPTION:We gather to worship together\, share in community\, and hear God’s Word.\nWe love our little\, homey Hub – but the space is tight! To gather at this location\, please register below. This will help us stay within the building’s small seating capacity. \n⚠️ Please note:  If you see that the RSVPs below are closed\, it means the Hub seating is full.
URL:https://epicvineyard.church/event/sunday-service-at-the-hub-november-16-400pm/
ATTACH;FMTTYPE=image/jpeg:https://epicvineyard.church/wp-content/uploads/2025/08/2025-July-_-Hub-Sunday-Gathering-928-scaled.jpg
END:VEVENT
END:VCALENDAR